View In:
ArcMap
ArcGIS Explorer
ArcGIS JavaScript
Google Earth
View Footprint In:
Google Earth
Service Description:
Map Name: Layers
Layers:
Description:
Copyright Text:
Spatial Reference: 32626
Single Fused Map Cache: true
Tile Info:
- Height: 256
- Width: 256
- DPI: 96
- Levels of Detail: (# Levels: 9)
-
Level ID: 0
[Start Tile,
End Tile]
Resolution: 66,1459656252646
Scale: 250000
-
Level ID: 1
[Start Tile,
End Tile]
Resolution: 26,4583862501058
Scale: 100000
-
Level ID: 2
[Start Tile,
End Tile]
Resolution: 13,2291931250529
Scale: 50000
-
Level ID: 3
[Start Tile,
End Tile]
Resolution: 6,61459656252646
Scale: 25000
-
Level ID: 4
[Start Tile,
End Tile]
Resolution: 3,1750063500127
Scale: 12000
-
Level ID: 5
[Start Tile,
End Tile]
Resolution: 2,64583862501058
Scale: 10000
-
Level ID: 6
[Start Tile,
End Tile]
Resolution: 1,32291931250529
Scale: 5000
-
Level ID: 7
[Start Tile,
End Tile]
Resolution: 0,529167725002117
Scale: 2000
-
Level ID: 8
[Start Tile,
End Tile]
Resolution: 0,264583862501058
Scale: 1000
- Format: JPEG
- Compression Quality: 75
-
Origin:
- Spatial Reference: 32626
Intial Extent:
XMin: 439468.75868227
YMin: 4258130.01707267
XMax: 525855.389788866
YMax: 4312898.87661039
Spatial Reference: 32626
Full Extent:
XMin: 449662.074235567
YMin: 4263514.44684153
XMax: 515662.074235569
YMax: 4307514.44684153
Spatial Reference: 32626
Units: esriMeters
Supported Image Format Types: PNG24,PNG,JPG,DIB,TIFF,EMF,PS,PDF,GIF,SVG,SVGZ,AI
Document Info:
- Title: TerceiraOrto
- Author: JM197708
- Comments:
- Subject:
- Category:
- Keywords:
Supported Interfaces:
REST
SOAP
Supported Operations:
Export Map
Identify
Find