View In:
ArcMap
ArcGIS Explorer
ArcGIS JavaScript
Google Earth
View Footprint In:
Google Earth
Service Description:
Map Name: Layers
Layers:
Description:
Copyright Text:
Spatial Reference: 102168
Single Fused Map Cache: true
Tile Info:
- Height: 256
- Width: 256
- DPI: 96
- Levels of Detail: (# Levels: 9)
-
Level ID: 0
[Start Tile,
End Tile]
Resolution: 66,1459656252646
Scale: 250000
-
Level ID: 1
[Start Tile,
End Tile]
Resolution: 26,4583862501058
Scale: 100000
-
Level ID: 2
[Start Tile,
End Tile]
Resolution: 13,2291931250529
Scale: 50000
-
Level ID: 3
[Start Tile,
End Tile]
Resolution: 6,61459656252646
Scale: 25000
-
Level ID: 4
[Start Tile,
End Tile]
Resolution: 3,1750063500127
Scale: 12000
-
Level ID: 5
[Start Tile,
End Tile]
Resolution: 2,64583862501058
Scale: 10000
-
Level ID: 6
[Start Tile,
End Tile]
Resolution: 1,32291931250529
Scale: 5000
-
Level ID: 7
[Start Tile,
End Tile]
Resolution: 0,529167725002117
Scale: 2000
-
Level ID: 8
[Start Tile,
End Tile]
Resolution: 0,264583862501058
Scale: 1000
- Format: JPEG
- Compression Quality: 75
-
Origin:
- Spatial Reference: 102168
Intial Extent:
XMin: 625660.102379641
YMin: 4066364.38091254
XMax: 712046.733486236
YMax: 4121133.24045026
Spatial Reference: 102168
Full Extent:
XMin: 652353.417932912
YMin: 4082748.8106814
XMax: 685353.417932964
YMax: 4104748.8106814
Spatial Reference: 102168
Units: esriMeters
Supported Image Format Types: PNG24,PNG,JPG,DIB,TIFF,EMF,PS,PDF,GIF,SVG,SVGZ,AI
Document Info:
- Title: Ortos
- Author: JM197708
- Comments:
- Subject:
- Category:
- Keywords:
Supported Interfaces:
REST
SOAP
Supported Operations:
Export Map
Identify
Find