View In:
ArcMap
ArcGIS Explorer
ArcGIS JavaScript
Google Earth
View Footprint In:
Google Earth
Service Description:
Map Name: Layers
Layers:
Description:
Copyright Text:
Spatial Reference: 32626
Single Fused Map Cache: true
Tile Info:
- Height: 256
- Width: 256
- DPI: 96
- Levels of Detail: (# Levels: 9)
-
Level ID: 0
[Start Tile,
End Tile]
Resolution: 66,1459656252646
Scale: 250000
-
Level ID: 1
[Start Tile,
End Tile]
Resolution: 26,4583862501058
Scale: 100000
-
Level ID: 2
[Start Tile,
End Tile]
Resolution: 13,2291931250529
Scale: 50000
-
Level ID: 3
[Start Tile,
End Tile]
Resolution: 6,61459656252646
Scale: 25000
-
Level ID: 4
[Start Tile,
End Tile]
Resolution: 3,1750063500127
Scale: 12000
-
Level ID: 5
[Start Tile,
End Tile]
Resolution: 2,64583862501058
Scale: 10000
-
Level ID: 6
[Start Tile,
End Tile]
Resolution: 1,32291931250529
Scale: 5000
-
Level ID: 7
[Start Tile,
End Tile]
Resolution: 0,529167725002117
Scale: 2000
-
Level ID: 8
[Start Tile,
End Tile]
Resolution: 0,264583862501058
Scale: 1000
- Format: JPEG
- Compression Quality: 75
-
Origin:
- Spatial Reference: 32626
Intial Extent:
XMin: 395886.952733763
YMin: 4311680.54837453
XMax: 430441.605176402
YMax: 4333588.09218962
Spatial Reference: 32626
Full Extent:
XMin: 402164.278955082
YMin: 4311634.32028207
XMax: 424164.278955082
YMax: 4333634.32028207
Spatial Reference: 32626
Units: esriMeters
Supported Image Format Types: PNG24,PNG,JPG,DIB,TIFF,EMF,PS,PDF,GIF,SVG,SVGZ,AI
Document Info:
- Title: GRA_Ortos2
- Author: am198031
- Comments:
- Subject:
- Category:
- Keywords:
Supported Interfaces:
REST
SOAP
Supported Operations:
Export Map
Identify
Find